BEGIN:VCALENDAR
VERSION:2.0
PRODID:-//MCC Ministry - ECPv6.15.17.1//NONSGML v1.0//EN
CALSCALE:GREGORIAN
METHOD:PUBLISH
X-ORIGINAL-URL:https://mccministry.id
X-WR-CALDESC:Events for MCC Ministry
REFRESH-INTERVAL;VALUE=DURATION:PT1H
X-Robots-Tag:noindex
X-PUBLISHED-TTL:PT1H
BEGIN:VTIMEZONE
TZID:Asia/Krasnoyarsk
BEGIN:STANDARD
TZOFFSETFROM:+0700
TZOFFSETTO:+0700
TZNAME:+07
DTSTART:20220101T000000
END:STANDARD
END:VTIMEZONE
BEGIN:VEVENT
DTSTART;VALUE=DATE:20240714
DTEND;VALUE=DATE:20240715
DTSTAMP:20260424T024135
CREATED:20240703T092129Z
LAST-MODIFIED:20240924T025652Z
UID:4609-1720915200-1721001599@mccministry.id
SUMMARY:The Parenting Project
DESCRIPTION:The Parenting Project \nMulai bulan Juli 2024 di semua wilayah MCC \nDaftarkan ke Sekretariat Wilayah masing-masing
URL:https://mccministry.id/event/the-parenting-project/
CATEGORIES:Seminar
ATTACH;FMTTYPE=image/jpeg:https://mccministry.id/wp-content/uploads/2024/07/parenting_project.jpg
END:VEVENT
BEGIN:VEVENT
DTSTART;TZID=Asia/Krasnoyarsk:20240312T193000
DTEND;TZID=Asia/Krasnoyarsk:20240312T210000
DTSTAMP:20260424T024135
CREATED:20240307T052527Z
LAST-MODIFIED:20240307T052527Z
UID:3917-1710271800-1710277200@mccministry.id
SUMMARY:Dalemin Alkitab With Abo
DESCRIPTION:Yuk\, belajar Alkitab bareng Abo! \nHari: Selasa \nTanggal: 12 Maret 2024 \nWaktu: 19.30 – 20.30 WIB \nTempat: ZOOM (link akan dibagikan menyusul) \nAyo\, ajak teman-teman kamu untuk belajar Alkitab bersama!
URL:https://mccministry.id/event/dalemin-alkitab-with-abo/
LOCATION:MCC BSD\, The Menorah 5th floor | Jl. Letnan Sutopo E8/1\, Nusa Loka\, BSD\, Tangerang Selatan.\, Tangerang Selatan\, Banten\, Indonesia
CATEGORIES:Seminar
ATTACH;FMTTYPE=image/jpeg:https://mccministry.id/wp-content/uploads/2024/03/dewa_dalemin_altitab_with_abo_16x9.jpeg
END:VEVENT
BEGIN:VEVENT
DTSTART;TZID=Asia/Krasnoyarsk:20231209T070000
DTEND;TZID=Asia/Krasnoyarsk:20231209T090000
DTSTAMP:20260424T024135
CREATED:20231120T031930Z
LAST-MODIFIED:20231201T075649Z
UID:2743-1702105200-1702112400@mccministry.id
SUMMARY:Doa Pelayan MCC
DESCRIPTION:Shalom para pelayan Tuhan mari satukan hati dan berdoa bersama di: \nDoa Pelayan MCC:\nSabtu\, 9 Desember 2023\nPukul 07.00 – 08.15\nMCC Slipi \nTerima kasih 🙏🏻 Tuhan Yesus Memberkati.
URL:https://mccministry.id/event/doa-pelayan-mcc-2/
LOCATION:MCC Slipi\, The Capitol Building 3rd floor | Jl. Letjen S. Parman\, Kav. 73\, Slipi\, Jakarta Barat.\, Jakarta\, Jakarta\, Indonesia
CATEGORIES:Seminar
ATTACH;FMTTYPE=image/jpeg:https://mccministry.id/wp-content/uploads/2023/11/doa_pelayan_09_desember.jpg
END:VEVENT
BEGIN:VEVENT
DTSTART;TZID=Asia/Krasnoyarsk:20231202T160000
DTEND;TZID=Asia/Krasnoyarsk:20231202T180000
DTSTAMP:20260424T024135
CREATED:20231120T032648Z
LAST-MODIFIED:20231120T032738Z
UID:2746-1701532800-1701540000@mccministry.id
SUMMARY:Natal Youth MCC
DESCRIPTION:[🎄] Yo\, Youth Gereja MCC! 🌟 \nSelamat datang di musim penuh sukacita\, teman-teman! 🎅🏽✨ Waktunya buat merayakan Natal dengan semangat penuh dan keceriaan! 🎉 \n🌈 Kita bakal adain event spesial buat Youth Gereja MCC buat merayakan Natal bareng-bareng. Get ready for some festive vibes and good times! 🥳 \n📆 Save the date: 🗓️ Minggu\, 2 Desember 2023 🕕 Jam 16.00 \n📍 Lokasi: MCC Slipi \nTeman-teman yang baru gabung juga welcome banget\, jadi ajak mereka buat ikutan merayakan Natal dengan kita! 🤗 \nSee you there\, Youth Gereja MCC! Let’s make this Christmas a memorable one! 🎄🎉🎶 \nGod bless you all! 🙏💖
URL:https://mccministry.id/event/natal-youth-mcc/
CATEGORIES:Seminar
ATTACH;FMTTYPE=image/jpeg:https://mccministry.id/wp-content/uploads/2023/11/natal-youth-2-des.jpg
END:VEVENT
BEGIN:VEVENT
DTSTART;TZID=Asia/Krasnoyarsk:20231124T190000
DTEND;TZID=Asia/Krasnoyarsk:20231124T200000
DTSTAMP:20260424T024135
CREATED:20231120T031153Z
LAST-MODIFIED:20231120T031153Z
UID:2738-1700852400-1700856000@mccministry.id
SUMMARY:WePray Session 24 November 2023
DESCRIPTION:Mari bersama semakin diperlengkapi di WePray Session Jumat 24 November 2023 jam 19.00 – 20.00 bersama Ps. Asa Boas M.Th.\nDengan Tema:\n“Anda bertanya\, Alkitab menjawab” \nPersiapkan pertanyaan Anda mengenai Doa dan Alkitab akan memberikan jawabannya. \nBerikut adalah link zoom WePray Session: \nhttps://us02web.zoom.us/j/83786319592?pwd=MkF2aXhZTThlSDBYazdaNVo0SlQ0QT09 \nMeeting ID: 837 8631 9592\nPasscode: doaMCC \nSampai ketemu 🙏🏻Tuhan Yesus Memberkati.
URL:https://mccministry.id/event/wepray-session-24-november-2023/
LOCATION:Zoom\, Online
CATEGORIES:Seminar
ATTACH;FMTTYPE=image/jpeg:https://mccministry.id/wp-content/uploads/2023/11/16x9_wepray_session_24_nov_2023.jpg
END:VEVENT
BEGIN:VEVENT
DTSTART;TZID=Asia/Krasnoyarsk:20230929T190000
DTEND;TZID=Asia/Krasnoyarsk:20230929T203000
DTSTAMP:20260424T024135
CREATED:20230924T153014Z
LAST-MODIFIED:20230925T120536Z
UID:2482-1696014000-1696019400@mccministry.id
SUMMARY:Seminar Doa 4 - Anda bertanya Alkitab Menjawab
DESCRIPTION:Shalom jemaat MCC 🙌🏼 \nMari bersama semakin diperlengkapi di WePray Session Jumat 29 September 2023 jam 19.00 – 20.00 bersama Ps. Asa Boas M.Th.\nDengan Tema:\n“Anda bertanya\, Alkitab menjawab” \nPersiapkan pertanyaan Anda mengenai Doa dan Alkitab akan memberikan jawabannya.
URL:https://mccministry.id/event/seminar-doa-4-anda-bertanya-alkitab-menjawab/
LOCATION:Zoom\, Online
CATEGORIES:Seminar
ATTACH;FMTTYPE=image/jpeg:https://mccministry.id/wp-content/uploads/2023/09/16x9_wepray_session_29_sept_2023.jpg
END:VEVENT
BEGIN:VEVENT
DTSTART;TZID=Asia/Krasnoyarsk:20230916T110000
DTEND;TZID=Asia/Krasnoyarsk:20230916T130000
DTSTAMP:20260424T024135
CREATED:20230915T062917Z
LAST-MODIFIED:20230915T062917Z
UID:2453-1694862000-1694869200@mccministry.id
SUMMARY:Seminar Keuangan
DESCRIPTION:Sulit mengelola keuangan?\nTidak bisa menabung?\nPenghasilan tidak cukup?\nIngin membantu orang lain yang sedang kesulitan keuangan? \nAyo hadir di Seminar Keuangan ini dan temukan jawabannya yang sesuai dengan Alkitab. \nAjaklah keluarga dan teman Anda untuk bersama diberkati. \nTuhan Yesus Memberkati 🙏
URL:https://mccministry.id/event/seminar-keuangan/
LOCATION:MCC BSD\, The Menorah 5th floor | Jl. Letnan Sutopo E8/1\, Nusa Loka\, BSD\, Tangerang Selatan.\, Tangerang Selatan\, Banten\, Indonesia
CATEGORIES:Seminar
ATTACH;FMTTYPE=image/jpeg:https://mccministry.id/wp-content/uploads/2023/09/whatsapp-image-2023-09-15-at-08.07.09.jpeg
END:VEVENT
END:VCALENDAR