BEGIN:VCALENDAR
VERSION:2.0
PRODID:-//MCC Ministry - ECPv6.15.17.1//NONSGML v1.0//EN
CALSCALE:GREGORIAN
METHOD:PUBLISH
X-WR-CALNAME:MCC Ministry
X-ORIGINAL-URL:https://mccministry.id
X-WR-CALDESC:Events for MCC Ministry
REFRESH-INTERVAL;VALUE=DURATION:PT1H
X-Robots-Tag:noindex
X-PUBLISHED-TTL:PT1H
BEGIN:VTIMEZONE
TZID:Asia/Krasnoyarsk
BEGIN:STANDARD
TZOFFSETFROM:+0700
TZOFFSETTO:+0700
TZNAME:+07
DTSTART:20230101T000000
END:STANDARD
END:VTIMEZONE
BEGIN:VEVENT
DTSTART;TZID=Asia/Krasnoyarsk:20250301T100000
DTEND;TZID=Asia/Krasnoyarsk:20250301T120000
DTSTAMP:20260424T040143
CREATED:20250213T085435Z
LAST-MODIFIED:20250213T085435Z
UID:6226-1740823200-1740830400@mccministry.id
SUMMARY:Revival Prayer
DESCRIPTION:Bergabunglah bersama kami dalam acara Revival Prayer yang akan diadakan pada: \n🗓 Tanggal: Sabtu\, 1 Maret 2025\n🕙 Waktu: Jam 10.00 WIB\n📍 Tempat: MCC Slipi\n👤 Pembicara: Ps. Natanael \nMari kita bersatu dalam doa dan pujian\, memohon pembaruan dan kuasa Tuhan dalam hidup kita. Jangan lewatkan kesempatan ini untuk mengalami hadirat-Nya! \n🙏 Ayo\, ajak teman dan keluarga!
URL:https://mccministry.id/event/revival-prayer/
LOCATION:MCC Slipi\, The Capitol Building 3rd floor | Jl. Letjen S. Parman\, Kav. 73\, Slipi\, Jakarta Barat.\, Jakarta\, Jakarta\, Indonesia
CATEGORIES:Event
ATTACH;FMTTYPE=image/jpeg:https://mccministry.id/wp-content/uploads/2025/02/revival_prayer_1_maret_16_x_9.jpg
END:VEVENT
BEGIN:VEVENT
DTSTART;TZID=Asia/Krasnoyarsk:20250222T090000
DTEND;TZID=Asia/Krasnoyarsk:20250222T120000
DTSTAMP:20260424T040143
CREATED:20250210T055148Z
LAST-MODIFIED:20250210T055148Z
UID:6193-1740214800-1740225600@mccministry.id
SUMMARY:Seminar HOME Leaders
DESCRIPTION:Seminar HOME Leaders: Mengembangkan HOME Berbasis Konseling \nKami mengundang Anda untuk bergabung dalam Seminar HOME Leaders yang akan membahas tema penting tentang pengembangan HOME berbasis konseling. \n🗣️ Pembicara:\nIbu Melati Tan.\, S.Th.\, M.Pd.K.\, Konselor (Dosen dan Fasilitator LK3) \n📅 Tanggal: Sabtu\, 22 Februari 2025\n🕒 Jam: 09.00 – 12.00\n📍 Tempat: MCC Slipi \n✨ Apa yang akan Anda dapatkan? \n\nPengetahuan mendalam tentang konseling dalam konteks HOME\nSesi interaktif dengan pembicara ahli\nKesempatan untuk berjejaring dengan sesama pemimpin\n\nJangan lewatkan kesempatan berharga ini untuk memperluas wawasan dan keterampilan Anda dalam kepemimpinan!
URL:https://mccministry.id/event/seminar-home-leaders/
LOCATION:MCC Slipi\, The Capitol Building 3rd floor | Jl. Letjen S. Parman\, Kav. 73\, Slipi\, Jakarta Barat.\, Jakarta\, Jakarta\, Indonesia
CATEGORIES:Event
ATTACH;FMTTYPE=image/jpeg:https://mccministry.id/wp-content/uploads/2025/02/seminar_home_leader_1_x_1.jpg
END:VEVENT
BEGIN:VEVENT
DTSTART;TZID=Asia/Krasnoyarsk:20250210T190000
DTEND;TZID=Asia/Krasnoyarsk:20250210T210000
DTSTAMP:20260424T040143
CREATED:20250207T045359Z
LAST-MODIFIED:20250207T045519Z
UID:6165-1739214000-1739221200@mccministry.id
SUMMARY:Fellowship Dep. Puji Sembah
DESCRIPTION:🌟 Fellowship Dep. Puji Sembah 🌟\nTema: Worship in Mission\nPembicara: Ps. Ronny Daud Simeon\n🗓️ Tanggal: 10 Februari 2025\n📍 Tempat: MCC Slipi\n⏰ Jam: 19.00 \nMari bergabung bersama kami dalam persekutuan yang penuh berkat! Ayo\, kita rayakan misi kita melalui pujian dan penyembahan. 🙏✨
URL:https://mccministry.id/event/fellowship-dep-puji-sembah/
LOCATION:MCC Slipi\, The Capitol Building 3rd floor | Jl. Letjen S. Parman\, Kav. 73\, Slipi\, Jakarta Barat.\, Jakarta\, Jakarta\, Indonesia
CATEGORIES:Event
ATTACH;FMTTYPE=image/jpeg:https://mccministry.id/wp-content/uploads/2025/02/pw_fellowship_10_feb-scaled.jpg
END:VEVENT
BEGIN:VEVENT
DTSTART;VALUE=DATE:20241019
DTEND;VALUE=DATE:20241021
DTSTAMP:20260424T040143
CREATED:20241002T021100Z
LAST-MODIFIED:20241002T021207Z
UID:5304-1729296000-1729468799@mccministry.id
SUMMARY:MCC Generation Fest 2024 - Sports Competition
DESCRIPTION:MCC Generation Fest – Sports Competition \n| Sabtu\, 19 Oktober : Badminton & Mini Soccer | \nMinggu\, 20 Oktober : E-Sport Competition (Mobile Legend) | \nInfo lebih lanjut hubungi Generation Leaders MCC wilayah masing-masing
URL:https://mccministry.id/event/mcc-generation-fest-2024-sports-competition/
LOCATION:Jakarta
CATEGORIES:Event
ATTACH;FMTTYPE=image/jpeg:https://mccministry.id/wp-content/uploads/2024/10/generation_fest.jpg
END:VEVENT
BEGIN:VEVENT
DTSTART;TZID=Asia/Krasnoyarsk:20240914T080000
DTEND;TZID=Asia/Krasnoyarsk:20240914T120000
DTSTAMP:20260424T040143
CREATED:20240917T050724Z
LAST-MODIFIED:20240917T050724Z
UID:5198-1726300800-1726315200@mccministry.id
SUMMARY:Menorah Stars Family Fun Day
DESCRIPTION:MS Fun Activities bersama Ps. Toninardi & Parenting Seminar bersama Ps. Mark MacClandon. \nDaftarkan di Koordinator MS Wilayah masing-masing.
URL:https://mccministry.id/event/menorah-stars-family-fun-day/
LOCATION:MCC BSD\, The Menorah 5th floor | Jl. Letnan Sutopo E8/1\, Nusa Loka\, BSD\, Tangerang Selatan.\, Tangerang Selatan\, Banten\, Indonesia
CATEGORIES:Event
ATTACH;FMTTYPE=image/jpeg:https://mccministry.id/wp-content/uploads/2024/09/family_fun_day.jpg
END:VEVENT
BEGIN:VEVENT
DTSTART;TZID=Asia/Krasnoyarsk:20240616T130000
DTEND;TZID=Asia/Krasnoyarsk:20240618T140000
DTSTAMP:20260424T040143
CREATED:20240515T091254Z
LAST-MODIFIED:20240703T091556Z
UID:4605-1718542800-1718719200@mccministry.id
SUMMARY:UNSTOPPABLE - MCC Generation Camp
DESCRIPTION:MCC Generation Camp \nUNSTOPPABLE \n16 – 18 Juni 2024 \nPuncak Bogor
URL:https://mccministry.id/event/unstoppable-mcc-generation-camp/
LOCATION:Puncak\, Bogor
CATEGORIES:Event
ATTACH;FMTTYPE=image/jpeg:https://mccministry.id/wp-content/uploads/2024/07/retreat-youth_generation_1_1.jpg
END:VEVENT
BEGIN:VEVENT
DTSTART;TZID=Asia/Krasnoyarsk:20240608T100000
DTEND;TZID=Asia/Krasnoyarsk:20240608T233000
DTSTAMP:20260424T040143
CREATED:20240514T090547Z
LAST-MODIFIED:20240703T091131Z
UID:4603-1717840800-1717889400@mccministry.id
SUMMARY:KKR DOA "REVIVAL PRAYER"
DESCRIPTION:KKR DOA “REVIVAL PRAYER” \nSabtu\, 8 Juni 2024 di MCC Slipi \nwith Ps. Natanael\, S.Th. MA \n10.00 – 11.30 wib
URL:https://mccministry.id/event/kkr-doa-revival-prayer/
LOCATION:MCC Slipi\, The Capitol Building 3rd floor | Jl. Letjen S. Parman\, Kav. 73\, Slipi\, Jakarta Barat.\, Jakarta\, Jakarta\, Indonesia
CATEGORIES:Event
ATTACH;FMTTYPE=image/png:https://mccministry.id/wp-content/uploads/2024/07/revival_prayer_8_juni_slipi.png
END:VEVENT
BEGIN:VEVENT
DTSTART;TZID=Asia/Krasnoyarsk:20240501T170000
DTEND;TZID=Asia/Krasnoyarsk:20240501T200000
DTSTAMP:20260424T040143
CREATED:20240425T085637Z
LAST-MODIFIED:20240703T090320Z
UID:4598-1714582800-1714593600@mccministry.id
SUMMARY:Praise & Worship MCC Gathering
DESCRIPTION:PW MCC Gathering \nPADA MULANYA ADALAH PENYEMBAH \nRabu\, 1 Mei 2024 \n17:00 Wib – Selesai \nJl. Wijaya Timur VI No. 117\, Jakarta Selatan \n 
URL:https://mccministry.id/event/praise-worship-mcc-gathering/
LOCATION:Jakarta
CATEGORIES:Event
ATTACH;FMTTYPE=image/jpeg:https://mccministry.id/wp-content/uploads/2024/07/pada-mulanya.jpg
END:VEVENT
BEGIN:VEVENT
DTSTART;TZID=Asia/Krasnoyarsk:20240323T170000
DTEND;TZID=Asia/Krasnoyarsk:20240323T190000
DTSTAMP:20260424T040143
CREATED:20240302T005138Z
LAST-MODIFIED:20240302T005138Z
UID:3800-1711213200-1711220400@mccministry.id
SUMMARY:Ibadah Youth Gabungan
DESCRIPTION:Ibadah Youth Gabungan 23 Maret: Ayo Tembakan Panahmu!\nYo\, Youth! \nSiap-siap buat Ibadah Youth Gabungan seru abis tanggal 23 Maret 2024! \nTemanya: Shooting the Arrows\, alias Tembakan Panah! \nPembicaranya: Kak Yohanes Wattimena\, keren kan? \nLokasinya: di Kwitang \nJamnya: jam 4 sore \nYuk\, ikutan: \n\nDengerin firman Tuhan yang asyik dari Kak Yohanes\nKetemu dan seru-seruan bareng youth dari gereja lain\nNambah iman dan semangat buat hidup\n\nAjak semua temanmu ya! \nSampai jumpa di Ibadah Youth Gabungan 23 Maret! \n#ShootingTheArrows #YouthGabungan #IbadahYouth #Kwitang
URL:https://mccministry.id/event/ibadah-youth-gabungan/
LOCATION:MCC Kwitang\, Capitol Building 2nd floor | Jl. Prajurit KKO Usman dan Harun No. 16\, Senen\, Jakarta Pusat.\, jakarta\, Indonesia
CATEGORIES:Event
ATTACH;FMTTYPE=image/jpeg:https://mccministry.id/wp-content/uploads/2024/03/ibadah_youth_gabungan_23_maret_2024.jpeg
END:VEVENT
BEGIN:VEVENT
DTSTART;TZID=Asia/Krasnoyarsk:20240306T193000
DTEND;TZID=Asia/Krasnoyarsk:20240306T210000
DTSTAMP:20260424T040143
CREATED:20240302T010221Z
LAST-MODIFIED:20240302T010221Z
UID:3803-1709753400-1709758800@mccministry.id
SUMMARY:Breakthrough Night
DESCRIPTION:Shalom Jemaat MCC BSD\, \nRabu\, 6 Maret 2024\, yuk datang ke Breakthrough Night: \n\nJam: 19.30 – 20.30 WIB\nTempat: MCC BSD The Menorah 5th floor\, Jl.Letnan Sutopo E8/1\, Nusa Loka BSD\, Tangerang Selatan\n\nMari bersama menyembah Tuhan dan rasakan hadirat-Nya yang akan mengubahkan hidup kita.
URL:https://mccministry.id/event/breakthrough-night/
LOCATION:MCC BSD\, The Menorah 5th floor | Jl. Letnan Sutopo E8/1\, Nusa Loka\, BSD\, Tangerang Selatan.\, Tangerang Selatan\, Banten\, Indonesia
CATEGORIES:Event
ATTACH;FMTTYPE=image/jpeg:https://mccministry.id/wp-content/uploads/2024/03/mar06_home_bsd_16x9.jpeg
END:VEVENT
BEGIN:VEVENT
DTSTART;TZID=Asia/Krasnoyarsk:20240306T190000
DTEND;TZID=Asia/Krasnoyarsk:20240306T210000
DTSTAMP:20260424T040143
CREATED:20240302T010626Z
LAST-MODIFIED:20240302T010626Z
UID:3806-1709751600-1709758800@mccministry.id
SUMMARY:HOME Gabungan Hybrid MCC Kwitang
DESCRIPTION:Shalom jemaat MCC Kwitang\, \nRabu\, 6 Maret 2024\, mari kita satukan hati dalam HOME Gabungan Hybrid MCC Kwitang: \n\nJam: 19.00 WIB\nTempat: MCC Kwitang & ZOOM\n\nPembicara: Ps. Moudy Jocom \nMari datang dan rasakan hadirat Tuhan bersama!
URL:https://mccministry.id/event/home-gabungan-hybrid-mcc-kwitang/
LOCATION:MCC Kwitang\, Capitol Building 2nd floor | Jl. Prajurit KKO Usman dan Harun No. 16\, Senen\, Jakarta Pusat.\, jakarta\, Indonesia
CATEGORIES:Event
ATTACH;FMTTYPE=image/jpeg:https://mccministry.id/wp-content/uploads/2024/03/mar06_home_kwitang_16x9.jpeg
END:VEVENT
BEGIN:VEVENT
DTSTART;TZID=Asia/Krasnoyarsk:20240225T130000
DTEND;TZID=Asia/Krasnoyarsk:20240225T150000
DTSTAMP:20260424T040143
CREATED:20240223T043537Z
LAST-MODIFIED:20240223T043537Z
UID:3598-1708866000-1708873200@mccministry.id
SUMMARY:Generaction
DESCRIPTION:Generaction\, let’s wrap with Ps. Christofer Tapiheru\, and this week we’re going to talk about Shattered Heart.\nPrepare your heart and let’s meet on Sunday. God bless you!\n#Generaction #Heart #youth #youthservice #sundayservice
URL:https://mccministry.id/event/generaction/
LOCATION:MCC Kwitang\, Capitol Building 2nd floor | Jl. Prajurit KKO Usman dan Harun No. 16\, Senen\, Jakarta Pusat.\, jakarta\, Indonesia
CATEGORIES:Event
ATTACH;FMTTYPE=image/jpeg:https://mccministry.id/wp-content/uploads/2024/02/25_feb_generaction_16x9.jpg
END:VEVENT
END:VCALENDAR